BEGIN:VCALENDAR
VERSION:2.0
PRODID:SchoolNow
CALSCALE:GREGORIAN
BEGIN:VEVENT
UID:b040834c-19b8-11ee-9b90-0a6006a20b37
DTSTAMP:20230717T133027Z
SUMMARY:Board of Education Meeting (10-10-23)
LOCATION:District Office Board Room
URL;VALUE=URI:https://www.liverpool.k12.ny.us/calendar/4465694/board-of-edu
 cation-meeting-10-10-23
DTSTART:20231010T220000Z
DTEND:20231011T020000Z
END:VEVENT
END:VCALENDAR
