BEGIN:VCALENDAR
VERSION:2.0
PRODID:SchoolNow
CALSCALE:GREGORIAN
BEGIN:VEVENT
UID:b94f3c2a-19b9-11ee-8d04-0a6006a20b37
DTSTAMP:20230717T133108Z
SUMMARY:Board of Education Meeting (11-20-23)
LOCATION:District Office Board Room
URL;VALUE=URI:https://www.liverpool.k12.ny.us/calendar/4465699/board-of-edu
 cation-meeting-11-20-23
DTSTART:20231120T230000Z
DTEND:20231121T030000Z
END:VEVENT
END:VCALENDAR
