BEGIN:VCALENDAR
VERSION:2.0
PRODID:SchoolNow
CALSCALE:GREGORIAN
BEGIN:VEVENT
UID:f1be1028-19bd-11ee-9654-02b0137163b1
DTSTAMP:20230717T133159Z
SUMMARY:Board of Education Meeting (1-8-24)
LOCATION:District Office Board Room
URL;VALUE=URI:https://www.liverpool.k12.ny.us/calendar/4465705/board-of-edu
 cation-meeting-1-8-24
DTSTART:20240108T230000Z
DTEND:20240109T030000Z
END:VEVENT
END:VCALENDAR
