BEGIN:VCALENDAR
VERSION:2.0
PRODID:SchoolNow
CALSCALE:GREGORIAN
BEGIN:VEVENT
UID:b4e985c8-19be-11ee-a246-0a6006a20b37
DTSTAMP:20230717T133213Z
SUMMARY:Board of Education Meeting (2-5-24)
LOCATION:District Office Board Room
URL;VALUE=URI:https://www.liverpool.k12.ny.us/calendar/4465709/board-of-edu
 cation-meeting-2-5-24
DTSTART:20240205T230000Z
DTEND:20240206T030000Z
END:VEVENT
END:VCALENDAR
