BEGIN:VCALENDAR
VERSION:2.0
PRODID:SchoolNow
CALSCALE:GREGORIAN
BEGIN:VEVENT
UID:db8d7962-19c0-11ee-aeeb-0a6006a20b37
DTSTAMP:20230717T133654Z
SUMMARY:Board of Education Meeting (5-28-24)
LOCATION:District Office Board Room
URL;VALUE=URI:https://www.liverpool.k12.ny.us/calendar/4465723/board-of-edu
 cation-meeting-5-28-24
DTSTART:20240528T220000Z
DTEND:20240529T020000Z
END:VEVENT
END:VCALENDAR
