BEGIN:VCALENDAR
VERSION:2.0
PRODID:SchoolNow
CALSCALE:GREGORIAN
BEGIN:VEVENT
UID:2af127b0-19c1-11ee-a3c1-0a6006a20b37
DTSTAMP:20230717T133706Z
SUMMARY:Board of Education Meeting (6-10-24)
LOCATION:District Office Board Room
URL;VALUE=URI:https://www.liverpool.k12.ny.us/calendar/4465725/board-of-edu
 cation-meeting-6-10-24
DTSTART:20240610T220000Z
DTEND:20240611T020000Z
END:VEVENT
END:VCALENDAR
