BEGIN:VCALENDAR
VERSION:2.0
PRODID:SchoolNow
CALSCALE:GREGORIAN
BEGIN:VEVENT
UID:a295aa00-1b49-11ee-b922-02f583e27a7f
DTSTAMP:20230717T133557Z
SUMMARY:Board of Education Special Meeting (4-17-24)
LOCATION:District Office Board Room
URL;VALUE=URI:https://www.liverpool.k12.ny.us/calendar/4471210/board-of-edu
 cation-special-meeting
DTSTART:20240417T220000Z
DTEND:20240418T020000Z
END:VEVENT
END:VCALENDAR
