BEGIN:VCALENDAR
VERSION:2.0
PRODID:SchoolNow
CALSCALE:GREGORIAN
BEGIN:VEVENT
UID:d17f7e04-307a-11ee-9a4e-0a58a9feac02
DTSTAMP:20230801T145055Z
SUMMARY:PLC Half Day K-12 (10-4-23)
URL;VALUE=URI:https://www.liverpool.k12.ny.us/calendar/4537165/plc-half-day
 -k-12-10-4-23
DTSTART;VALUE=DATE:20231004
DTEND;VALUE=DATE:20231005
END:VEVENT
END:VCALENDAR
