BEGIN:VCALENDAR
VERSION:2.0
PRODID:SchoolNow
CALSCALE:GREGORIAN
BEGIN:VEVENT
UID:0498aac2-307b-11ee-bb8e-0a58a9feac02
DTSTAMP:20230801T145221Z
SUMMARY:Columbus Day Observance (10-9-23) - School Closed
URL;VALUE=URI:https://www.liverpool.k12.ny.us/calendar/4537179/columbus-day
 -observance-10-9-23-school-closed
DTSTART;VALUE=DATE:20231009
DTEND;VALUE=DATE:20231010
END:VEVENT
END:VCALENDAR
