BEGIN:VCALENDAR
VERSION:2.0
PRODID:SchoolNow
CALSCALE:GREGORIAN
BEGIN:VEVENT
UID:db33fc12-307b-11ee-9e9f-0a58a9feac02
DTSTAMP:20230801T145821Z
SUMMARY:Parent Conferences - Early Dismissal K-5 (10-31-23)
URL;VALUE=URI:https://www.liverpool.k12.ny.us/calendar/4537206/parent-confe
 rences-early-dismissal-k-5-10-31-23
DTSTART;VALUE=DATE:20231031
DTEND;VALUE=DATE:20231101
END:VEVENT
END:VCALENDAR
