BEGIN:VCALENDAR
VERSION:2.0
PRODID:SchoolNow
CALSCALE:GREGORIAN
BEGIN:VEVENT
UID:2bd4eae6-307c-11ee-b7f8-02aa4284d8bb
DTSTAMP:20230801T150036Z
SUMMARY:Superintendent's Conference Day (11-7-23) - Students Do Not Report
URL;VALUE=URI:https://www.liverpool.k12.ny.us/calendar/4537215/superintende
 nts-conference-day-11-7-23-students-do-not-report
DTSTART;VALUE=DATE:20231107
DTEND;VALUE=DATE:20231108
END:VEVENT
END:VCALENDAR
