BEGIN:VCALENDAR
VERSION:2.0
PRODID:SchoolNow
CALSCALE:GREGORIAN
BEGIN:VEVENT
UID:78a729a6-307c-11ee-9ea1-0a58a9feac02
DTSTAMP:20230801T150245Z
SUMMARY:Veterans Day Observance (11-10-23) - School Closed
URL;VALUE=URI:https://www.liverpool.k12.ny.us/calendar/4537229/veterans-day
 -observance-11-10-23-school-closed
DTSTART;VALUE=DATE:20231110
DTEND;VALUE=DATE:20231111
END:VEVENT
END:VCALENDAR
