BEGIN:VCALENDAR
VERSION:2.0
PRODID:SchoolNow
CALSCALE:GREGORIAN
BEGIN:VEVENT
UID:95b9c962-307d-11ee-af89-0af812e4dd99
DTSTAMP:20230801T151043Z
SUMMARY:Thanksgiving Recess (11-24-23) - School Closed
URL;VALUE=URI:https://www.liverpool.k12.ny.us/calendar/4537271/thanksgiving
 -recess-11-24-23-school-closed
DTSTART;VALUE=DATE:20231124
DTEND;VALUE=DATE:20231125
END:VEVENT
END:VCALENDAR
