BEGIN:VCALENDAR
VERSION:2.0
PRODID:SchoolNow
CALSCALE:GREGORIAN
BEGIN:VEVENT
UID:5938d8f6-3083-11ee-bdee-0a58a9feac02
DTSTAMP:20230801T155159Z
SUMMARY:Parent Conferences - Early Dismissal K-5 (12-7-23)
URL;VALUE=URI:https://www.liverpool.k12.ny.us/calendar/4537293/parent-confe
 rences-early-dismissal-k-5-12-7-23
DTSTART;VALUE=DATE:20231207
DTEND;VALUE=DATE:20231208
END:VEVENT
END:VCALENDAR
