BEGIN:VCALENDAR
VERSION:2.0
PRODID:SchoolNow
CALSCALE:GREGORIAN
BEGIN:VEVENT
UID:9298969a-3083-11ee-a61f-0ebbad7de425
DTSTAMP:20230801T155335Z
SUMMARY:Holiday Recess (12-25-23) - School Closed
URL;VALUE=URI:https://www.liverpool.k12.ny.us/calendar/4537306/holiday-rece
 ss-12-25-23-school-closed
DTSTART;VALUE=DATE:20231225
DTEND;VALUE=DATE:20231226
END:VEVENT
END:VCALENDAR
