BEGIN:VCALENDAR
VERSION:2.0
PRODID:SchoolNow
CALSCALE:GREGORIAN
BEGIN:VEVENT
UID:cea7d240-3083-11ee-9fa6-02269a395989
DTSTAMP:20230801T155516Z
SUMMARY:Holiday Recess (12-26-23) - School Closed
URL;VALUE=URI:https://www.liverpool.k12.ny.us/calendar/4537323/holiday-rece
 ss-12-26-23-school-closed
DTSTART;VALUE=DATE:20231226
DTEND;VALUE=DATE:20231227
END:VEVENT
END:VCALENDAR
