BEGIN:VCALENDAR
VERSION:2.0
PRODID:SchoolNow
CALSCALE:GREGORIAN
BEGIN:VEVENT
UID:0888afac-3084-11ee-a6ff-0a58a9feac02
DTSTAMP:20230801T155653Z
SUMMARY:Holiday Recess (12-27-23) - School Closed
URL;VALUE=URI:https://www.liverpool.k12.ny.us/calendar/4537340/holiday-rece
 ss-12-27-23-school-closed
DTSTART;VALUE=DATE:20231227
DTEND;VALUE=DATE:20231228
END:VEVENT
END:VCALENDAR
