BEGIN:VCALENDAR
VERSION:2.0
PRODID:SchoolNow
CALSCALE:GREGORIAN
BEGIN:VEVENT
UID:3550ffc6-3084-11ee-b66c-02269a395989
DTSTAMP:20230801T155808Z
SUMMARY:Holiday Recess (12-28-23) - School Closed
URL;VALUE=URI:https://www.liverpool.k12.ny.us/calendar/4537356/holiday-rece
 ss-12-28-23-school-closed
DTSTART;VALUE=DATE:20231228
DTEND;VALUE=DATE:20231229
END:VEVENT
END:VCALENDAR
