BEGIN:VCALENDAR
VERSION:2.0
PRODID:SchoolNow
CALSCALE:GREGORIAN
BEGIN:VEVENT
UID:606faf72-3084-11ee-ad34-02aa4284d8bb
DTSTAMP:20230801T155920Z
SUMMARY:Holiday Recess (12-29-23) - School Closed
URL;VALUE=URI:https://www.liverpool.k12.ny.us/calendar/4537370/holiday-rece
 ss-12-29-23-school-closed
DTSTART;VALUE=DATE:20231229
DTEND;VALUE=DATE:20231230
END:VEVENT
END:VCALENDAR
