BEGIN:VCALENDAR
VERSION:2.0
PRODID:SchoolNow
CALSCALE:GREGORIAN
BEGIN:VEVENT
UID:9328d8c6-3084-11ee-bd6f-0a58a9feac02
DTSTAMP:20230801T160045Z
SUMMARY:New Year's Holiday (1-1-24) - School Closed
URL;VALUE=URI:https://www.liverpool.k12.ny.us/calendar/4537387/new-years-ho
 liday-1-1-24-school-closed
DTSTART;VALUE=DATE:20240101
DTEND;VALUE=DATE:20240102
END:VEVENT
END:VCALENDAR
