BEGIN:VCALENDAR
VERSION:2.0
PRODID:SchoolNow
CALSCALE:GREGORIAN
BEGIN:VEVENT
UID:f32378c6-3084-11ee-a56d-02269a395989
DTSTAMP:20230801T160326Z
SUMMARY:Martin Luther King Day (1-15-24) - School Closed
URL;VALUE=URI:https://www.liverpool.k12.ny.us/calendar/4537405/martin-luthe
 r-king-day-1-15-24-school-closed
DTSTART;VALUE=DATE:20240115
DTEND;VALUE=DATE:20240116
END:VEVENT
END:VCALENDAR
