BEGIN:VCALENDAR
VERSION:2.0
PRODID:SchoolNow
CALSCALE:GREGORIAN
BEGIN:VEVENT
UID:346f8d56-3085-11ee-9a47-02269a395989
DTSTAMP:20230801T160516Z
SUMMARY:Regents Exams (1-23-24)
URL;VALUE=URI:https://www.liverpool.k12.ny.us/calendar/4537419/regents-exam
 s-1-23-24
DTSTART;VALUE=DATE:20240123
DTEND;VALUE=DATE:20240124
END:VEVENT
END:VCALENDAR
