BEGIN:VCALENDAR
VERSION:2.0
PRODID:SchoolNow
CALSCALE:GREGORIAN
BEGIN:VEVENT
UID:4a007bbc-3085-11ee-bfc2-0e10657fc093
DTSTAMP:20230801T160552Z
SUMMARY:Regents Exams (1-24-24)
URL;VALUE=URI:https://www.liverpool.k12.ny.us/calendar/4537421/regents-exam
 s-1-24-24
DTSTART;VALUE=DATE:20240124
DTEND;VALUE=DATE:20240125
END:VEVENT
END:VCALENDAR
