BEGIN:VCALENDAR
VERSION:2.0
PRODID:SchoolNow
CALSCALE:GREGORIAN
BEGIN:VEVENT
UID:62a516a0-3085-11ee-bdae-0ebbad7de425
DTSTAMP:20230801T160633Z
SUMMARY:Regents Exams (1-25-24)
URL;VALUE=URI:https://www.liverpool.k12.ny.us/calendar/4537423/regents-exam
 s-1-25-24
DTSTART;VALUE=DATE:20240125
DTEND;VALUE=DATE:20240126
END:VEVENT
END:VCALENDAR
