BEGIN:VCALENDAR
VERSION:2.0
PRODID:SchoolNow
CALSCALE:GREGORIAN
BEGIN:VEVENT
UID:74ecac24-3085-11ee-936a-0ebbad7de425
DTSTAMP:20230801T160704Z
SUMMARY:Regents Exams (1-26-24)
URL;VALUE=URI:https://www.liverpool.k12.ny.us/calendar/4537425/regents-exam
 s-1-26-24
DTSTART;VALUE=DATE:20240126
DTEND;VALUE=DATE:20240127
END:VEVENT
END:VCALENDAR
