BEGIN:VCALENDAR
VERSION:2.0
PRODID:SchoolNow
CALSCALE:GREGORIAN
BEGIN:VEVENT
UID:abc6fbe6-3085-11ee-b610-0a58a9feac02
DTSTAMP:20230801T160836Z
SUMMARY:PLC Half Day K-12 (1-26-24)
URL;VALUE=URI:https://www.liverpool.k12.ny.us/calendar/4537427/plc-half-day
 -k-12-1-26-24
DTSTART;VALUE=DATE:20240126
DTEND;VALUE=DATE:20240127
END:VEVENT
END:VCALENDAR
