BEGIN:VCALENDAR
VERSION:2.0
PRODID:SchoolNow
CALSCALE:GREGORIAN
BEGIN:VEVENT
UID:2d54526e-3098-11ee-a631-0af812e4dd99
DTSTAMP:20230801T182104Z
SUMMARY:Winter Recess (2-21-24) - School Closed
URL;VALUE=URI:https://www.liverpool.k12.ny.us/calendar/4537561/winter-reces
 s-2-21-24-school-closed
DTSTART;VALUE=DATE:20240221
DTEND;VALUE=DATE:20240222
END:VEVENT
END:VCALENDAR
