BEGIN:VCALENDAR
VERSION:2.0
PRODID:SchoolNow
CALSCALE:GREGORIAN
BEGIN:VEVENT
UID:5a1119e0-3098-11ee-87ef-0af812e4dd99
DTSTAMP:20230801T182219Z
SUMMARY:Winter Recess (2-22-24) - School Closed
URL;VALUE=URI:https://www.liverpool.k12.ny.us/calendar/4537575/winter-reces
 s-2-22-24-school-closed
DTSTART;VALUE=DATE:20240222
DTEND;VALUE=DATE:20240223
END:VEVENT
END:VCALENDAR
