BEGIN:VCALENDAR
VERSION:2.0
PRODID:SchoolNow
CALSCALE:GREGORIAN
BEGIN:VEVENT
UID:991671d0-3098-11ee-8be1-0a58a9feac02
DTSTAMP:20230801T182405Z
SUMMARY:Winter Recess (2-23-24) - School Closed
URL;VALUE=URI:https://www.liverpool.k12.ny.us/calendar/4537589/winter-reces
 s-2-23-24-school-closed
DTSTART;VALUE=DATE:20240223
DTEND;VALUE=DATE:20240224
END:VEVENT
END:VCALENDAR
