BEGIN:VCALENDAR
VERSION:2.0
PRODID:SchoolNow
CALSCALE:GREGORIAN
BEGIN:VEVENT
UID:cc9c3292-3098-11ee-b5a3-0a58a9feac02
DTSTAMP:20231128T174135Z
SUMMARY:Student Choice Holiday (3-8-24) - School Closed
URL;VALUE=URI:https://www.liverpool.k12.ny.us/calendar/4537610/student-choi
 ce-holiday-weekend-3-8-24-school-closed
DTSTART;VALUE=DATE:20240308
DTEND;VALUE=DATE:20240309
END:VEVENT
END:VCALENDAR
