BEGIN:VCALENDAR
VERSION:2.0
PRODID:SchoolNow
CALSCALE:GREGORIAN
BEGIN:VEVENT
UID:6e0c2844-3099-11ee-a0b5-0af812e4dd99
DTSTAMP:20230801T183002Z
SUMMARY:Parent Conferences Half Day K-8 (3-15-24)
URL;VALUE=URI:https://www.liverpool.k12.ny.us/calendar/4537625/parent-confe
 rences-half-day-k-8-3-15-24
DTSTART;VALUE=DATE:20240315
DTEND;VALUE=DATE:20240316
END:VEVENT
END:VCALENDAR
