BEGIN:VCALENDAR
VERSION:2.0
PRODID:SchoolNow
CALSCALE:GREGORIAN
BEGIN:VEVENT
UID:a67f9fbc-3099-11ee-a1c3-0af812e4dd99
DTSTAMP:20230801T183137Z
SUMMARY:Good Friday (3-29-24) - School Closed
URL;VALUE=URI:https://www.liverpool.k12.ny.us/calendar/4537639/good-friday-
 3-29-24-school-closed
DTSTART;VALUE=DATE:20240329
DTEND;VALUE=DATE:20240330
END:VEVENT
END:VCALENDAR
