BEGIN:VCALENDAR
VERSION:2.0
PRODID:SchoolNow
CALSCALE:GREGORIAN
BEGIN:VEVENT
UID:2d2b94b2-309a-11ee-ab77-0af812e4dd99
DTSTAMP:20230801T183523Z
SUMMARY:Superintendent's Conference Day (4-10-24) - Students Do Not Report
URL;VALUE=URI:https://www.liverpool.k12.ny.us/calendar/4537667/superintende
 nts-conference-day-4-10-24-students-do-not-report
DTSTART;VALUE=DATE:20240410
DTEND;VALUE=DATE:20240411
END:VEVENT
END:VCALENDAR
