BEGIN:VCALENDAR
VERSION:2.0
PRODID:SchoolNow
CALSCALE:GREGORIAN
BEGIN:VEVENT
UID:82d1c77e-309a-11ee-8e4c-0a58a9feac02
DTSTAMP:20230801T183747Z
SUMMARY:Spring Recess (4-22-24) - School Closed
URL;VALUE=URI:https://www.liverpool.k12.ny.us/calendar/4537681/spring-reces
 s-4-22-24-school-closed
DTSTART;VALUE=DATE:20240422
DTEND;VALUE=DATE:20240423
END:VEVENT
END:VCALENDAR
