BEGIN:VCALENDAR
VERSION:2.0
PRODID:SchoolNow
CALSCALE:GREGORIAN
BEGIN:VEVENT
UID:d8186184-309a-11ee-b4cc-02269a395989
DTSTAMP:20230801T184010Z
SUMMARY:Spring Recess (4-24-24) - School Closed
URL;VALUE=URI:https://www.liverpool.k12.ny.us/calendar/4537709/spring-reces
 s-4-24-24-school-closed
DTSTART;VALUE=DATE:20240424
DTEND;VALUE=DATE:20240425
END:VEVENT
END:VCALENDAR
