BEGIN:VCALENDAR
VERSION:2.0
PRODID:SchoolNow
CALSCALE:GREGORIAN
BEGIN:VEVENT
UID:338c80cc-309b-11ee-b0f4-02269a395989
DTSTAMP:20230801T184243Z
SUMMARY:Spring Recess (4-26-24) - School Closed
URL;VALUE=URI:https://www.liverpool.k12.ny.us/calendar/4537737/spring-reces
 s-4-26-24-school-closed
DTSTART;VALUE=DATE:20240426
DTEND;VALUE=DATE:20240427
END:VEVENT
END:VCALENDAR
