BEGIN:VCALENDAR
VERSION:2.0
PRODID:SchoolNow
CALSCALE:GREGORIAN
BEGIN:VEVENT
UID:6b7f9f6e-309b-11ee-9894-0a58a9feac02
DTSTAMP:20230801T184517Z
SUMMARY:PLC Half Day K-12 (5-15-24)
URL;VALUE=URI:https://www.liverpool.k12.ny.us/calendar/4537751/plc-half-day
 -k-12-5-15-24
DTSTART;VALUE=DATE:20240515
DTEND;VALUE=DATE:20240516
END:VEVENT
END:VCALENDAR
