BEGIN:VCALENDAR
VERSION:2.0
PRODID:SchoolNow
CALSCALE:GREGORIAN
BEGIN:VEVENT
UID:c0737cca-309b-11ee-8c38-02aa4284d8bb
DTSTAMP:20240425T153104Z
SUMMARY:School Closed - Memorial Day Holiday (5-24-24)
URL;VALUE=URI:https://www.liverpool.k12.ny.us/calendar/4537765/possible-sno
 w-day-give-back-5-24-24
DTSTART;VALUE=DATE:20240524
DTEND;VALUE=DATE:20240525
END:VEVENT
END:VCALENDAR
