BEGIN:VCALENDAR
VERSION:2.0
PRODID:SchoolNow
CALSCALE:GREGORIAN
BEGIN:VEVENT
UID:f67dae62-309b-11ee-babb-0a58a9feac02
DTSTAMP:20230801T184810Z
SUMMARY:Memorial Day Holiday (5-27-24) - School Closed
URL;VALUE=URI:https://www.liverpool.k12.ny.us/calendar/4537779/memorial-day
 -holiday-5-27-24-school-closed
DTSTART;VALUE=DATE:20240527
DTEND;VALUE=DATE:20240528
END:VEVENT
END:VCALENDAR
