BEGIN:VCALENDAR
VERSION:2.0
PRODID:SchoolNow
CALSCALE:GREGORIAN
BEGIN:VEVENT
UID:25bc70aa-309c-11ee-a9b0-0a58a9feac02
DTSTAMP:20230801T184930Z
SUMMARY:Regents Exams (6-14-24)
URL;VALUE=URI:https://www.liverpool.k12.ny.us/calendar/4537794/regents-exam
 s-6-14-24
DTSTART;VALUE=DATE:20240614
DTEND;VALUE=DATE:20240615
END:VEVENT
END:VCALENDAR
