BEGIN:VCALENDAR
VERSION:2.0
PRODID:SchoolNow
CALSCALE:GREGORIAN
BEGIN:VEVENT
UID:4043fe52-309c-11ee-9bf4-0a58a9feac02
DTSTAMP:20230801T185014Z
SUMMARY:Regents Exams (6-17-24)
URL;VALUE=URI:https://www.liverpool.k12.ny.us/calendar/4537796/regents-exam
 s-6-17-24
DTSTART;VALUE=DATE:20240617
DTEND;VALUE=DATE:20240618
END:VEVENT
END:VCALENDAR
