BEGIN:VCALENDAR
VERSION:2.0
PRODID:SchoolNow
CALSCALE:GREGORIAN
BEGIN:VEVENT
UID:984b81ba-309c-11ee-8306-0a58a9feac02
DTSTAMP:20230801T185242Z
SUMMARY:Juneteenth Holiday (6-19-24)
URL;VALUE=URI:https://www.liverpool.k12.ny.us/calendar/4537802/juneteenth-h
 oliday-6-19-24
DTSTART;VALUE=DATE:20240619
DTEND;VALUE=DATE:20240620
END:VEVENT
END:VCALENDAR
