BEGIN:VCALENDAR
VERSION:2.0
PRODID:SchoolNow
CALSCALE:GREGORIAN
BEGIN:VEVENT
UID:bfc8bda2-309c-11ee-a7b8-0e10657fc093
DTSTAMP:20230801T185348Z
SUMMARY:Regents Exams (6-20-24)
URL;VALUE=URI:https://www.liverpool.k12.ny.us/calendar/4537817/regents-exam
 s-6-20-24
DTSTART;VALUE=DATE:20240620
DTEND;VALUE=DATE:20240621
END:VEVENT
END:VCALENDAR
