BEGIN:VCALENDAR
VERSION:2.0
PRODID:SchoolNow
CALSCALE:GREGORIAN
BEGIN:VEVENT
UID:e7a230ec-309c-11ee-95bf-0a58a9feac02
DTSTAMP:20230801T185455Z
SUMMARY:Regents Exams (6-24-24)
URL;VALUE=URI:https://www.liverpool.k12.ny.us/calendar/4537821/regents-exam
 s-6-24-24
DTSTART;VALUE=DATE:20240624
DTEND;VALUE=DATE:20240625
END:VEVENT
END:VCALENDAR
