BEGIN:VCALENDAR
VERSION:2.0
PRODID:SchoolNow
CALSCALE:GREGORIAN
BEGIN:VEVENT
UID:07bf844c-309d-11ee-9a5b-0a58a9feac02
DTSTAMP:20230801T185549Z
SUMMARY:Regents Exams (6-25-24)
URL;VALUE=URI:https://www.liverpool.k12.ny.us/calendar/4537826/regents-exam
 s-6-25-24
DTSTART;VALUE=DATE:20240625
DTEND;VALUE=DATE:20240626
END:VEVENT
END:VCALENDAR
