BEGIN:VCALENDAR
VERSION:2.0
PRODID:SchoolNow
CALSCALE:GREGORIAN
BEGIN:VEVENT
UID:2318a282-309d-11ee-8cb1-0e10657fc093
DTSTAMP:20230801T185635Z
SUMMARY:Regents Exams (6-26-24)
URL;VALUE=URI:https://www.liverpool.k12.ny.us/calendar/4537831/regents-exam
 s-6-26-24
DTSTART;VALUE=DATE:20240626
DTEND;VALUE=DATE:20240627
END:VEVENT
END:VCALENDAR
