BEGIN:VCALENDAR
VERSION:2.0
PRODID:SchoolNow
CALSCALE:GREGORIAN
BEGIN:VEVENT
UID:40088920-309d-11ee-a5b9-0a58a9feac02
DTSTAMP:20230801T185723Z
SUMMARY:Rating Day/ Last Day of School (6-26-24)
URL;VALUE=URI:https://www.liverpool.k12.ny.us/calendar/4537836/rating-day-l
 ast-day-of-school-6-26-24
DTSTART;VALUE=DATE:20240626
DTEND;VALUE=DATE:20240627
END:VEVENT
END:VCALENDAR
