BEGIN:VCALENDAR
VERSION:2.0
PRODID:SchoolNow
CALSCALE:GREGORIAN
BEGIN:VEVENT
UID:0dbd8adc-309e-11ee-90a9-0e10657fc093
DTSTAMP:20230801T190308Z
SUMMARY:Regents Exams (6-21-24)
URL;VALUE=URI:https://www.liverpool.k12.ny.us/calendar/4537856/regents-exam
 s-6-21-24
DTSTART;VALUE=DATE:20240621
DTEND;VALUE=DATE:20240622
END:VEVENT
END:VCALENDAR
