BEGIN:VCALENDAR
VERSION:2.0
PRODID:SchoolNow
CALSCALE:GREGORIAN
BEGIN:VEVENT
UID:452cc4c4-309e-11ee-9f1f-0a58a9feac02
DTSTAMP:20230801T190441Z
SUMMARY:School Budget Vote & BOE Election (5-21-24)
LOCATION:Wetzel Road Building
URL;VALUE=URI:https://www.liverpool.k12.ny.us/calendar/4537858/school-budge
 t-vote-boe-election-5-21-24
DTSTART:20240521T100000Z
DTEND:20240522T010000Z
END:VEVENT
END:VCALENDAR
