BEGIN:VCALENDAR
VERSION:2.0
PRODID:SchoolNow
CALSCALE:GREGORIAN
BEGIN:VEVENT
UID:6202990c-309e-11ee-bfc4-02aa4284d8bb
DTSTAMP:20230925T175305Z
SUMMARY:Elementary School Report Cards (12-8-23)
URL;VALUE=URI:https://www.liverpool.k12.ny.us/calendar/4537859/elementary-s
 chool-report-cards-12-1-23
DTSTART;VALUE=DATE:20231208
DTEND;VALUE=DATE:20231209
END:VEVENT
END:VCALENDAR
